Workbook

Sheet ปวช.
A1: หลักสูตร | B1: แผนรับนักศึกษา ตามปีการศึกษา แยกระดับ
B2: ปี 2561 | C2: ปี 2562 | D2: ปี 2563 | E2: ปี 2564 | F2: ปี 2565 | G2: ปี 2566 | H2: ปี 2567 | I2: ปี 2568
B3: ประกาศนียบัตรวิชาชีพ ภาคพิเศษ | C3: ประกาศนียบัตรวิชาชีพ ภาคพิเศษ | D3: ประกาศนียบัตรวิชาชีพ ภาคพิเศษ | E3: ประกาศนียบัตรวิชาชีพ ภาคพิเศษ | F3: ประกาศนียบัตรวิชาชีพ ภาคพิเศษ | G3: ประกาศนียบัตรวิชาชีพ ภาคพิเศษ | H3: ประกาศนียบัตรวิชาชีพ ภาคพิเศษ | I3: ประกาศนียบัตรวิชาชีพ ภาคพิเศษ
A4: ประเภทวิชาอุตสาหกรรม | B4: =SUM(B5:B10) -> 175 | C4: =SUM(C5:C10) -> 175 | D4: =SUM(D5:D10) -> 280 | E4: =SUM(E5:E10) -> 280 | F4: =SUM(F5:F10) -> 0 | G4: =SUM(G5:G10) -> 0 | H4: =SUM(H5:H10) -> 0 | I4: =SUM(I5:I10) -> 0
A5: หลักสูตรประกาศนียบัตรวิชาชีพ สาขาวิชาช่างยนต์ | B5: 35 | C5: 35 | D5: 70 | E5: 70
A6: หลักสูตรประกาศนียบัตรวิชาชีพ สาขาวิชาช่างกลโรงงาน | B6: 35 | C6: 35 | D6: 35 | E6: 35
A7: หลักสูตรประกาศนียบัตรวิชาชีพ สาขาวิชาช่างไฟฟ้ากำลัง | B7: 70 | C7: 70 | D7: 70 | E7: 70
A8: หลักสูตรประกาศนียบัตรวิชาชีพ สาขาวิชาช่างอิเล็กทรอนิกส์ | B8: 35 | C8: 35 | D8: 35 | E8: 35
A9: หลักสูตรประกาศนียบัตรวิชาชีพ สาขาวิชาช่างเทคนิคคอมพิวเตอร์ | D9: 35 | E9: 35
A10: หลักสูตรประกาศนียบัตรวิชาชีพ สาขาวิชาช่างเขียนแบบเครื่องกล | D10: 35 | E10: 35
A11: ประเภทวิชาพาณิชยกรรม | B11: =SUM(B12) -> 35 | C11: =SUM(C12) -> 70 | D11: =SUM(D12) -> 35 | E11: =SUM(E12) -> 40 | F11: =SUM(F12) -> 0 | G11: =SUM(G12) -> 0 | H11: =SUM(H12) -> 0 | I11: =SUM(I12) -> 0
A12: หลักสูตรประกาศนียบัตรวิชาชีพ สาขาวิชาการบัญชี | B12: 35 | C12: 70 | D12: 35 | E12: 40
A13: รวมแผนรับ ระดับประกาศนียบัตรวิชาชีพ | B13: =SUM(B4,B11) -> 210 | C13: =SUM(C4,C11) -> 245 | D13: =SUM(D4,D11) -> 315 | E13: =SUM(E4,E11) -> 320 | F13: =SUM(F4,F11) -> 0 | G13: =SUM(G4,G11) -> 0 | H13: =SUM(H4,H11) -> 0 | I13: =SUM(I4,I11) -> 0

Sheet ป.ตรี
A1: หลักสูตร (หากรับรวมแบบไม่แยกแขนงวิชา ให้ใส่เลขที่บรรทัดหลักสูตร หากรับเข้าแขนงวิชา ให้ใส่เลขที่บรรทัดของแขนงวิชาที่รับ) | B1: แผนรับนักศึกษา ตามปีการศึกษา แยกระดับ
B2: ปี 2561 | J2: ปี 2562 | R2: ปี 2563 | Z2: ปี 2564 | AI2: ปี 2565 | AQ2: ปี 2566 | AY2: ปี 2567 | BG2: ปี 2568
B3: ปริญญาตรี 4 ปี ภาคปกติ | C3: ปริญญาตรี 4 ปี ภาคสมทบ | D3: ปริญญาตรี 5 ปี ภาคปกติ | E3: ปริญญาตรี เทียบโอน ภาคปกติ | F3: ปริญญาตรี เทียบโอน ภาคสมทบ | G3: ปริญญาตรี 2 ปีต่อเนื่อง ภาคปกติ | H3: ปริญญาตรี 2 ปีต่อเนื่อง ภาคสมทบ | I3: ปริญญาตรี 2 ปีต่อเนื่อง ภาคสมทบ เสาร์-อาทิตย์ | J3: ปริญญาตรี 4 ปี ภาคปกติ | K3: ปริญญาตรี 4 ปี ภาคสมทบ | L3: ปริญญาตรี 5 ปี ภาคปกติ | M3: ปริญญาตรี เทียบโอน ภาคปกติ | N3: ปริญญาตรี เทียบโอน ภาคสมทบ | O3: ปริญญาตรี 2 ปีต่อเนื่อง ภาคปกติ | P3: ปริญญาตรี 2 ปีต่อเนื่อง ภาคสมทบ | Q3: ปริญญาตรี 2 ปีต่อเนื่อง ภาคสมทบ เสาร์-อาทิตย์ | R3: ปริญญาตรี 4 ปี ภาคปกติ | S3: ปริญญาตรี 4 ปี ภาคสมทบ | T3: ปริญญาตรี 5 ปี ภาคปกติ | U3: ปริญญาตรี เทียบโอน ภาคปกติ | V3: ปริญญาตรี เทียบโอน ภาคสมทบ | W3: ปริญญาตรี 2 ปีต่อเนื่อง ภาคปกติ | X3: ปริญญาตรี 2 ปีต่อเนื่อง ภาคสมทบ | Y3: ปริญญาตรี 2 ปีต่อเนื่อง ภาคสมทบ เสาร์-อาทิตย์ | Z3: ปริญญาตรี 4 ปี ภาคปกติ | AA3: ปริญญาตรี 4 ปี ภาคสมทบ | AB3: ปริญญาตรี 5 ปี ภาคปกติ | AC3: ปริญญาตรี เทียบโอน ภาคปกติ | AD3: ปริญญาตรี เทียบโอน ภาคสมทบ | AE3: ปริญญาตรี เทียบโอน ภาคสมทบ เสาร์-อาทิตย์ | AF3: ปริญญาตรี 2 ปีต่อเนื่อง ภาคปกติ | AG3: ปริญญาตรี 2 ปีต่อเนื่อง ภาคสมทบ | AH3: ปริญญาตรี 2 ปีต่อเนื่อง ภาคสมทบ เสาร์-อาทิตย์ | AI3: ปริญญาตรี 4 ปี ภาคปกติ | AJ3: ปริญญาตรี 4 ปี ภาคสมทบ | AK3: ปริญญาตรี 5 ปี ภาคปกติ | AL3: ปริญญาตรี เทียบโอน ภาคปกติ | AM3: ปริญญาตรี เทียบโอน ภาคสมทบ | AN3: ปริญญาตรี 2 ปีต่อเนื่อง ภาคปกติ | AO3: ปริญญาตรี 2 ปีต่อเนื่อง ภาคสมทบ | AP3: ปริญญาตรี 2 ปีต่อเนื่อง ภาคสมทบ เสาร์-อาทิตย์ | AQ3: ปริญญาตรี 4 ปี ภาคปกติ | AR3: ปริญญาตรี 4 ปี ภาคสมทบ | AS3: ปริญญาตรี 5 ปี ภาคปกติ | AT3: ปริญญาตรี เทียบโอน ภาคปกติ | AU3: ปริญญาตรี เทียบโอน ภาคสมทบ | AV3: ปริญญาตรี 2 ปีต่อเนื่อง ภาคปกติ | AW3: ปริญญาตรี 2 ปีต่อเนื่อง ภาคสมทบ | AX3: ปริญญาตรี 2 ปีต่อเนื่อง ภาคสมทบ เสาร์-อาทิตย์ | AY3: ปริญญาตรี 4 ปี ภาคปกติ | AZ3: ปริญญาตรี 4 ปี ภาคสมทบ | BA3: ปริญญาตรี 5 ปี ภาคปกติ | BB3: ปริญญาตรี เทียบโอน ภาคปกติ | BC3: ปริญญาตรี เทียบโอน ภาคสมทบ | BD3: ปริญญาตรี 2 ปีต่อเนื่อง ภาคปกติ | BE3: ปริญญาตรี 2 ปีต่อเนื่อง ภาคสมทบ | BF3: ปริญญาตรี 2 ปีต่อเนื่อง ภาคสมทบ เสาร์-อาทิตย์ | BG3: ปริญญาตรี 4 ปี ภาคปกติ | BH3: ปริญญาตรี 4 ปี ภาคสมทบ | BI3: ปริญญาตรี 5 ปี ภาคปกติ | BJ3: ปริญญาตรี เทียบโอน ภาคปกติ | BK3: ปริญญาตรี เทียบโอน ภาคสมทบ | BL3: ปริญญาตรี 2 ปีต่อเนื่อง ภาคปกติ | BM3: ปริญญาตรี 2 ปีต่อเนื่อง ภาคสมทบ | BN3: ปริญญาตรี 2 ปีต่อเนื่อง ภาคสมทบ เสาร์-อาทิตย์
A4: คณะครุศาสตร์อุตสาหกรรม | B4: =SUM(B5:B19) -> 0 | C4: =SUM(C5:C19) -> 0 | D4: =SUM(D5:D19) -> 125 | E4: =SUM(E5:E19) -> 0 | F4: =SUM(F5:F19) -> 0 | G4: =SUM(G5:G19) -> 100 | H4: =SUM(H5:H19) -> 0 | I4: =SUM(I5:I19) -> 30 | ... BN4: =SUM(BN5:BN19) -> 0
A5: หลักสูตรครุศาสตร์อุตสาหกรรมบัณฑิต สาขาวิชาเครื่องกล (4 ปี) | J5: 25 | R5: 25 | Z5: 25
A6: หลักสูตรครุศาสตร์อุตสาหกรรมบัณฑิต สาขาวิชาอุตสาหการ (4 ปี) | J6: 25 | Z6: 25
A7: หลักสูตรครุศาสตร์อุตสาหกรรมบัณฑิต สาขาวิชาคอมพิวเตอร์ (4 ปี) | J7: 25 | Z7: 25
A8: หลักสูตรอุตสาหกรรมศาสตรบัณฑิต สาขาวิชาวิศวกรรมไฟฟ้า (ต่อเนื่อง)
A9: แขนงวิชาวิศวกรรมไฟฟ้ากำลัง | G9: 25 | O9: 25 | W9: 25 | AF9: 25
A10: แขนงวิชาวิศวกรรมอิเล็กทรอนิกส์ | G10: 25 | O10: 25 | W10: 25 | AF10: 25
A11: หลักสูตรอุตสาหกรรมศาสตรบัณฑิต สาขาวิชาวิศวกรรมเครื่องกล (ต่อเนื่อง) | G11: 25 | O11: 25 | Q11: 25 | W11: 25 | Y11: 25 | AF11: 25 | AH11: 25
A12: หลักสูตรอุตสาหกรรมศาสตรบัณฑิต สาขาวิชาวิศวกรรมอุตสาหการ (ต่อเนื่อง) | G12: 25 | I12: 30 | O12: 25 | Q12: 25 | W12: 25 | Y12: 25 | AF12: 25 | AH12: 25
A13: หลักสูตรครุศาสตร์อุตสาหกรรมบัณฑิต สาขาวิชาวิศวกรรมไฟฟ้า (5 ปี)
A14: แขนงวิชาวิศวกรรมไฟฟ้ากำลัง | D14: 25
A15: แขนงวิชาวิศวกรรมคอมพิวเตอร์ | D15: 25
A16: แขนงวิชาวิศวกรรมอิเล็กทรอนิกส์และโทรคมนาคม | D16: 25
A17: หลักสูตรครุศาสตร์อุตสาหกรรมบัณฑิต สาขาวิชาวิศวกรรมเครื่องกล (5 ปี)
A18: แขนงวิชาวิศวกรรมเครื่องกล | D18: 25
A19: แขนงวิชาวิศวกรรมอุตสาหการ | D19: 25
A20: คณะเทคโนโลยีคหกรรมศาสตร์ | B20: =SUM(B21:B27) -> 330 | C20: =SUM(C21:C27) -> 0 | D20: =SUM(D21:D27) -> 0 | E20: =SUM(E21:E27) -> 0 | F20: =SUM(F21:F27) -> 0 | G20: =SUM(G21:G27) -> 50 | H20: =SUM(H21:H27) -> 0 | I20: =SUM(I21:I27) -> 0 | ... BN20: =SUM(BN21:BN27) -> 0
A21: หลักสูตรวิทยาศาสตรบัณฑิต สาขาวิชาวิทยาศาสตร์และเทคโนโลยีการอาหาร | B21: 60 | J21: 30 | R21: 30 | Z21: 35
A22: หลักสูตรคหกรรมศาสตรบัณฑิต สาขาวิชาการบริหารธุรกิจคหกรรมศาสตร์ | B22: 60 | J22: 60 | R22: 60 | Z22: 60
A23: หลักสูตรคหกรรมศาสตรบัณฑิต สาขาวิชาอาหารและโภชนาการ | B23: 150 | J23: 150 | R23: 150 | Z23: 150
A24: หลักสูตรคหกรรมศาสตรบัณฑิต สาขาวิชาออกแบบแฟชั่นผ้าและเครื่องแต่งกาย | B24: 30 | J24: 30 | R24: 30 | Z24: 30
A25: หลักสูตรคหกรรมศาสตรบัณฑิต สาขาวิชาอุตสาหกรรมการบริการอาหาร | B25: 30 | J25: 90 | R25: 110 | Z25: 60 | AC25: 30
A26: หลักสูตรคหกรรมศาสตรบัณฑิต สาขาวิชาการบริหารธุรกิจคหกรรมศาสตร์ (ต่อเนื่อง) | G26: 20 | O26: 25 | W26: 25 | AF26: 25
A27: หลักสูตรคหกรรมศาสตรบัณฑิต สาขาวิชาอาหารและโภชนาการ (ต่อเนื่อง) | G27: 30 | O27: 50 | W27: 50 | AF27: 30
A28: คณะเทคโนโลยีสื่อสารมวลชน | B28: =SUM(B29:B33) -> 245 | C28: =SUM(C29:C33) -> 0 | D28: =SUM(D29:D33) -> 0 | E28: =SUM(E29:E33) -> 0 | F28: =SUM(F29:F33) -> 0 | G28: =SUM(G29:G33) -> 0 | H28: =SUM(H29:H33) -> 0 | I28: =SUM(I29:I33) -> 0 | ... BN28: =SUM(BN29:BN33) -> 0
A29: หลักสูตรเทคโนโลยีบัณฑิต สาขาวิชาเทคโนโลยีสื่อสารมวลชน | B29: 245 | J29: 245 | R29: 280 | Z29: 280
A30: วิชาเอกเทคโนโลยีการโฆษณาและประชาสัมพันธ์
A31: วิชาเอกเทคโนโลยีการโทรทัศน์และวิทยุกระจายเสียง
A32: วิชาเอกเทคโนโลยีมัลติมีเดีย
A33: วิชาเอกครีเอทีฟมีเดียเทคโนโลยี
A34: คณะบริหารธุรกิจ | B34: =SUM(B35:B57) -> 845 | C34: =SUM(C35:C57) -> 35 | D34: =SUM(D35:D57) -> 0 | E34: =SUM(E35:E57) -> 420 | F34: =SUM(F35:F57) -> 220 | G34: =SUM(G35:G57) -> 0 | H34: =SUM(H35:H57) -> 0 | I34: =SUM(I35:I57) -> 0 | ... BN34: =SUM(BN35:BN57) -> 0
A35: หลักสูตรบริหารธุรกิจบัณฑิต สาขาวิชาการตลาด
A36: กลุ่มวิชาการสื่อสารการตลาด | B36: 35 | J36: 35 | Z36: 105 | AC36: 105
A37: กลุ่มวิชาการบริหารการตลาด | B37: 105 | E37: 70 | J37: 105 | M37: 70 | R37: 105 | U37: 105
A38: กลุ่มวิชาการบริหารธุรกิจค้าปลีก
A39: หลักสูตรบริหารธุรกิจบัณฑิต สาขาวิชาภาษาอังกฤษธุรกิจ | B39: 40 | Z39: 0
A40: หลักสูตรบริหารธุรกิจบัณฑิต สาขาวิชาการเงิน
A41: กลุ่มวิชาการเงิน | B41: 70 | J41: 70 | R41: 35 | Z41: 70 | AE41: 30
A42: กลุ่มวิชาเศรษฐศาสตร์ดิจิทัล | B42: 35 | J42: 35 | Z42: 35
A43: หลักสูตรบริหารธุรกิจบัณฑิต สาขาวิชาการจัดการ | J43: 105 | R43: 105
A44: กลุ่มวิชาการจัดการทั่วไป | B44: 70 | E44: 35 | F44: 35 | M44: 35 | N44: 35 | U44: 35 | V44: 30 | Z44: 70 | AC44: 35
A45: กลุ่มวิชาการจัดการทรัพยากรมนุษย์ | B45: 35 | Z45: 0 | AC45: 0
A46: กลุ่มวิชาการจัดการโลจิสติกส์และโซ่อุปทาน | B46: 70 | E46: 35 | F46: 35 | J46: 70 | N46: 35 | R46: 140 | U46: 70 | V46: 30 | Z46: 140 | AC46: 35 | AE46: 60
A47: กลุ่มวิชาการเป็นผู้ประกอบการ | Z47: 0 | AC47: 0
A48: หลักสูตรบริหารธุรกิจบัณฑิต สาขาวิชาธุรกิจระหว่างประเทศ | C48: 35 | K48: 35 | S48: 25 | AA48: 25
A49: หลักสูตรบริหารธุรกิจบัณฑิต สาขาวิชาระบบสารสนเทศ | B49: 105 | J49: 105 | R49: 35
A50: กลุ่มวิชาคอมพิวเตอร์ธุรกิจ | F50: 30 | N50: 65 | U50: 105 | V50: 30 | Z50: 70 | AC50: 70 | AE50: 30
A51: กลุ่มวิชาพัฒนาซอฟต์แวร์ | E51: 70 | M51: 70 | U51: 35 | Z51: 0 | AC51: 70
A52: กลุ่มวิชาบริหารธุรกิจดิจิทัล | Z52: 0 | AC52: 35
A53: หลักสูตรบัญชีบัณฑิต | B53: 280 | J53: 280 | R53: 175 | Z53: 210
A54: กลุ่มวิชาการบัญชีการเงิน | E54: 35 | F54: 60 | M54: 70 | N54: 60 | U54: 35 | V54: 30 | AC54: 35 | AE54: 30
A55: กลุ่มวิชาการบัญชีบริหาร | E55: 140 | F55: 60 | M55: 150 | N55: 60 | U55: 140 | V55: 60 | AC55: 175 | AE55: 60
A56: กลุ่มวิชาการสอบบัญชี | E56: 35 | AC56: 0 | AE56: 0
A57: หลักสูตรวิทยาศาสตรบัณฑิต สาขาวิชาการวิเคราะห์ข้อมูลเชิงธุรกิจ | J57: 40 | R57: 35 | Z57: 70 | AC57: 0 | AE57: 0
A58: คณะวิทยาศาสตร์และเทคโนโลยี | B58: =SUM(B59:B62) -> 175 | C58: =SUM(C59:C62) -> 0 | D58: =SUM(D59:D62) -> 0 | E58: =SUM(E59:E62) -> 0 | F58: =SUM(F59:F62) -> 0 | G58: =SUM(G59:G62) -> 0 | H58: =SUM(H59:H62) -> 0 | I58: =SUM(I59:I62) -> 0 | ... BN58: =SUM(BN59:BN62) -> 0
A59: หลักสูตรวิทยาศาสตรบัณฑิต สาขาวิชาวิทยาการคอมพิวเตอร์ | B59: 105 | J59: 105 | R59: 105 | Z59: 70
A60: หลักสูตรวิทยาศาสตรบัณฑิต สาขาวิชาวัสดุศาสตร์อุตสาหกรรม | B60: 35 | J60: 35 | R60: 35 | Z60: 30
A61: หลักสูตรวิทยาศาสตรบัณฑิต สาขาวิชาวิทยาศาสตร์และเทคโนโลยีสิ่งแวดล้อม | B61: 35 | J61: 35 | R61: 35 | Z61: 35
A62: หลักสูตรวิทยาศาสตรบัณฑิต สาขาวิชาวิทยาการข้อมูลและเทคโนโลยีสารสนเทศ | J62: 35 | R62: 35 | Z62: 35
A63: คณะวิศวกรรมศาสตร์ | B63: =SUM(B64:B73) -> 510 | C63: =SUM(C64:C73) -> 25 | D63: =SUM(D64:D73) -> 0 | E63: =SUM(E64:E73) -> 35 | F63: =SUM(F64:F73) -> 100 | G63: =SUM(G64:G73) -> 30 | H63: =SUM(H64:H73) -> 0 | I63: =SUM(I64:I73) -> 0 | ... BN63: =SUM(BN64:BN73) -> 0
A64: หลักสูตรวิศวกรรมศาสตรบัณฑิต สาขาวิชาวิศวกรรมเครื่องกล | B64: 70 | F64: 25 | J64: 70 | N64: 25 | R64: 60 | S64: 25 | V64: 40 | Z64: 60 | AA64: 25 | AD64: 40
A65: หลักสูตรวิศวกรรมศาสตรบัณฑิต สาขาวิชาวิศวกรรมอุตสาหการ | B65: 70 | E65: 35 | J65: 70 | N65: 25 | R65: 50 | U65: 25 | Z65: 50 | AC65: 25
A66: หลักสูตรวิศวกรรมศาสตรบัณฑิต สาขาวิชาวิศวกรรมไฟฟ้า | B66: 70 | C66: 25 | F66: 50 | J66: 40 | K66: 25 | N66: 25 | R66: 60 | S66: 15 | V66: 35 | Z66: 50 | AA66: 25 | AD66: 35
A67: หลักสูตรวิศวกรรมศาสตรบัณฑิต สาขาวิชาวิศวกรรมอิเล็กทรอนิกส์และโทรคมนาคม | B67: 70 | F67: 25 | J67: 70 | N67: 25 | R67: 25 | V67: 15 | Z67: 30 | AD67: 25
A68: หลักสูตรวิศวกรรมศาสตรบัณฑิต สาขาวิชาวิศวกรรมคอมพิวเตอร์ | B68: 70 | J68: 60 | R68: 60 | Z68: 60
A69: หลักสูตรวิศวกรรมศาสตรบัณฑิต สาขาวิชาวิศวกรรมโยธา | B69: 30 | J69: 30 | R69: 30 | Z69: 30
A70: หลักสูตรวิศวกรรมศาสตรบัณฑิต สาขาวิชาวิศวกรรมเครื่องมือและแม่พิมพ์ | B70: 70 | J70: 70 | R70: 35 | Z70: 35
A71: หลักสูตรวิศวกรรมศาสตรบัณฑิต สาขาวิชาวิศวกรรมเมคคาทรอนิกส์และระบบการผลิตอัตโนมัติ | B71: 35 | J71: 35 | R71: 25 | Z71: 35
A72: หลักสูตรอุตสาหกรรมศาสตรบัณฑิต สาขาวิชาเทคโนโลยีวิศวกรรมนวัตกรรมเพื่อความยั่งยืน (ต่อเนื่อง) | G72: 30 | O72: 30 | P72: 25 | W72: 30 | X72: 25 | AF72: 35 | AG72: 35
A73: หลักสูตรอุตสาหกรรมศาสตรบัณฑิต สาขาวิชาวิศวกรรมการผลิตเครื่องประดับ | B73: 25 | J73: 25 | R73: 15 | Z73: 25
A74: คณะศิลปศาสตร์ | B74: =SUM(B75:B78) -> 235 | C74: =SUM(C75:C78) -> 0 | D74: =SUM(D75:D78) -> 0 | E74: =SUM(E75:E78) -> 0 | F74: =SUM(F75:F78) -> 15 | G74: =SUM(G75:G78) -> 0 | H74: =SUM(H75:H78) -> 0 | I74: =SUM(I75:I78) -> 0 | ... BN74: =SUM(BN75:BN78) -> 0
A75: หลักสูตรศิลปศาสตรบัณฑิต สาขาวิชาการท่องเที่ยว | B75: 70 | J75: 70 | R75: 70 | Z75: 70
A76: หลักสูตรศิลปศาสตรบัณฑิต สาขาวิชาการโรงแรม | B76: 70 | J76: 70 | R76: 70 | Z76: 70 | AA76: 30
A77: หลักสูตรศิลปศาสตรบัณฑิต สาขาวิชาภาษาอังกฤษเพื่อการสื่อสารสากล | B77: 70 | J77: 70 | R77: 70 | Z77: 70
A78: หลักสูตรศิลปศาสตรบัณฑิต สาขาวิชาภาษาไทยประยุกต์ | B78: 25 | F78: 15 | J78: 25 | R78: 35 | Z78: 25 | AD78: 15
A79: คณะอุตสาหกรรมสิ่งทอและออกแบบแฟชั่น | B79: =SUM(B80:B84) -> 120 | C79: =SUM(C80:C84) -> 0 | D79: =SUM(D80:D84) -> 0 | E79: =SUM(E80:E84) -> 0 | F79: =SUM(F80:F84) -> 0 | G79: =SUM(G80:G84) -> 0 | H79: =SUM(H80:H84) -> 0 | I79: =SUM(I80:I84) -> 0 | ... BN79: =SUM(BN80:BN84) -> 0
A80: หลักสูตรเทคโนโลยีบัณฑิต สาขาวิชาเทคโนโลยีเสื้อผ้า | B80: 25 | J80: 30 | R80: 30 | Z80: 30
A81: หลักสูตรเทคโนโลยีบัณฑิต สาขาวิชาออกแบบแฟชั่นและสิ่งทอ
A82: วิชาเอกออกแบบแฟชั่น | B82: 35 | J82: 70 | R82: 70 | Z82: 70
A83: วิชาเอกออกแบบผลิตภัณฑ์ | B83: 35 | J83: 35 | R83: 35 | Z83: 35
A84: หลักสูตรเทคโนโลยีบัณฑิต สาขาวิชานวัตกรรมและเทคโนโลยีสิ่งทอ | B84: 25 | J84: 25 | R84: 25 | Z84: 25
A85: คณะสถาปัตยกรรมศาสตร์และการออกแบบ | B85: =SUM(B86:B88) -> 140 | C85: =SUM(C86:C88) -> 0 | D85: =SUM(D86:D88) -> 35 | E85: =SUM(E86:E88) -> 0 | F85: =SUM(F86:F88) -> 0 | G85: =SUM(G86:G88) -> 0 | H85: =SUM(H86:H88) -> 0 | I85: =SUM(I86:I88) -> 0 | ... BN85: =SUM(BN86:BN88) -> 0
A86: หลักสูตรเทคโนโลยีบัณฑิต สาขาวิชาการออกแบบผลิตภัณฑ์อุตสาหกรรม | B86: 105 | J86: 105 | R86: 45 | Z86: 105
A87: หลักสูตรเทคโนโลยีบัณฑิต สาขาวิชาการออกแบบบรรจุภัณฑ์และการพิมพ์ | B87: 35 | J87: 35 | R87: 30 | Z87: 35
A88: หลักสูตรสถาปัตยกรรมศาสตรบัณฑิต สาขาวิชาสถาปัตยกรรม | D88: 35 | L88: 35 | T88: 35 | Z88: 35
A89: รวมแผนรับ ระดับปริญญาตรี | B89: =SUM(B4,B20,B28,B34,B58,B63,B74,B79,B85) -> 2600 | C89: =SUM(C4,C20,C28,C34,C58,C63,C74,C79,C85) -> 60 | D89: =SUM(D4,D20,D28,D34,D58,D63,D74,D79,D85) -> 160 | E89: =SUM(E4,E20,E28,E34,E58,E63,E74,E79,E85) -> 455 | F89: =SUM(F4,F20,F28,F34,F58,F63,F74,F79,F85) -> 335 | G89: =SUM(G4,G20,G28,G34,G58,G63,G74,G79,G85) -> 180 | H89: =SUM(H4,H20,H28,H34,H58,H63,H74,H79,H85) -> 0 | I89: =SUM(I4,I20,I28,I34,I58,I63,I74,I79,I85) -> 30 | ... BN89: =SUM(BN4,BN20,BN28,BN34,BN58,BN63,BN74,BN79,BN85) -> 0

Sheet ป.บัณฑิต
A1: หลักสูตร | B1: แผนรับนักศึกษา ตามปีการศึกษา แยกระดับ
B2: ปี 2561 | C2: ปี 2562 | D2: ปี 2563 | E2: ปี 2564 | F2: ปี 2565 | G2: ปี 2566 | H2: ปี 2567 | I2: ปี 2568
B3: ประกาศนียบัตรบัณฑิต ภาคสมทบเสาร์-อาทิตย์ | C3: ประกาศนียบัตรบัณฑิต ภาคสมทบเสาร์-อาทิตย์ | D3: ประกาศนียบัตรบัณฑิต ภาคสมทบเสาร์-อาทิตย์ | E3: ประกาศนียบัตรบัณฑิต ภาคสมทบเสาร์-อาทิตย์ | F3: ประกาศนียบัตรบัณฑิต ภาคสมทบเสาร์-อาทิตย์ | G3: ประกาศนียบัตรบัณฑิต ภาคสมทบเสาร์-อาทิตย์ | H3: ประกาศนียบัตรบัณฑิต ภาคสมทบเสาร์-อาทิตย์ | I3: ประกาศนียบัตรบัณฑิต ภาคสมทบเสาร์-อาทิตย์
A4: คณะครุศาสตร์อุตสาหกรรม | B4: =SUM(B5) -> 180 | C4: =SUM(C5) -> 0 | D4: =SUM(D5) -> 180 | E4: =SUM(E5) -> 0 | F4: =SUM(F5) -> 0 | G4: =SUM(G5) -> 0 | H4: =SUM(H5) -> 0 | I4: =SUM(I5) -> 0
A5: หลักสูตรประกาศนียบัตรบัณฑิต สาขาวิชาวิชาชีพครู | B5: 180 | D5: 180
A6: รวมแผนรับ ระดับประกาศนียบัตรบัณฑิต | B6: =SUM(B4) -> 180 | C6: =SUM(C4) -> 0 | D6: =SUM(D4) -> 180 | E6: =SUM(E4) -> 0 | F6: =SUM(F4) -> 0 | G6: =SUM(G4) -> 0 | H6: =SUM(H4) -> 0 | I6: =SUM(I4) -> 0

Sheet ป.โท
A1: หลักสูตร | B1: แผนรับนักศึกษา ตามปีการศึกษา แยกระดับ
B2: ปี 2561 | E2: ปี 2562 | H2: ปี 2563 | K2: ปี 2564 | N2: ปี 2565 | Q2: ปี 2566 | T2: ปี 2567 | W2: ปี 2568
B3: ปริญญาโท ภาคปกติ | C3: ปริญญาโท ภาคสมทบ ภาคค่ำ | D3: ปริญญาโท ภาคสมทบ เสาร์-อาทิตย์ | E3: ปริญญาโท ภาคปกติ | F3: ปริญญาโท ภาคสมทบ ภาคค่ำ | G3: ปริญญาโท ภาคสมทบ เสาร์-อาทิตย์ | H3: ปริญญาโท ภาคปกติ | I3: ปริญญาโท ภาคสมทบ ภาคค่ำ | J3: ปริญญาโท ภาคสมทบ เสาร์-อาทิตย์ | K3: ปริญญาโท ภาคปกติ | L3: ปริญญาโท ภาคสมทบ ภาคค่ำ | M3: ปริญญาโท ภาคสมทบ เสาร์-อาทิตย์ | N3: ปริญญาโท ภาคปกติ | O3: ปริญญาโท ภาคสมทบ ภาคค่ำ | P3: ปริญญาโท ภาคสมทบ เสาร์-อาทิตย์ | Q3: ปริญญาโท ภาคปกติ | R3: ปริญญาโท ภาคสมทบ ภาคค่ำ | S3: ปริญญาโท ภาคสมทบ เสาร์-อาทิตย์ | T3: ปริญญาโท ภาคปกติ | U3: ปริญญาโท ภาคสมทบ ภาคค่ำ | V3: ปริญญาโท ภาคสมทบ เสาร์-อาทิตย์ | W3: ปริญญาโท ภาคปกติ | X3: ปริญญาโท ภาคสมทบ ภาคค่ำ | Y3: ปริญญาโท ภาคสมทบ เสาร์-อาทิตย์
A4: คณะเทคโนโลยีคหกรรมศาสตร์ | B4: =SUM(B5:B9) -> 0 | C4: =SUM(C5:C9) -> 0 | D4: =SUM(D5:D9) -> 20 | E4: =SUM(E5:E9) -> 0 | F4: =SUM(F5:F9) -> 0 | G4: =SUM(G5:G9) -> 20 | H4: =SUM(H5:H9) -> 0 | I4: =SUM(I5:I9) -> 0 | ... Y4: =SUM(Y5:Y9) -> 0
A5: หลักสูตรคหกรรมศาสตรมหาบัณฑิต สาขาวิชาคหกรรมศาสตร์ | D5: 20 | G5: 20 | J5: 20 | M5: 20
A6: กลุ่มวิชาอาหารและโภชนาการ
A7: กลุ่มวิชาออกแบบแฟชั่นผ้าและสิ่งทอ
A8: กลุ่มวิชาธุรกิจอาหาร
A9: กลุ่มวิชาการบริหารธุรกิจคหกรรมศาสตร์
A10: คณะบริหารธุรกิจ | B10: =SUM(B11:B16) -> 0 | C10: =SUM(C11:C16) -> 40 | D10: =SUM(D11:D16) -> 20 | E10: =SUM(E11:E16) -> 0 | F10: =SUM(F11:F16) -> 20 | G10: =SUM(G11:G16) -> 20 | H10: =SUM(H11:H16) -> 0 | I10: =SUM(I11:I16) -> 20 | ... Y10: =SUM(Y11:Y16) -> 0
A11: หลักสูตรบริหารธุรกิจมหาบัณฑิต | C11: 40 | D11: 20 | F11: 20 | G11: 20 | I11: 20 | J11: 20
A12: กลุ่มวิชาการบัญชี
A13: กลุ่มวิชาการตลาด
A14: กลุ่มวิชาการจัดการ
A15: กลุ่มวิชาการเงิน
A16: กลุ่มวิชาสารสนเทศธุรกิจ
A17: คณะวิศวกรรมศาสตร์ | B17: =SUM(B18:B20) -> 20 | C17: =SUM(C18:C20) -> 0 | D17: =SUM(D18:D20) -> 35 | E17: =SUM(E18:E20) -> 15 | F17: =SUM(F18:F20) -> 0 | G17: =SUM(G18:G20) -> 30 | H17: =SUM(H18:H20) -> 15 | I17: =SUM(I18:I20) -> 0 | ... Y17: =SUM(Y18:Y20) -> 0
A18: หลักสูตรวิศวกรรมศาสตรมหาบัณฑิต สาขาวิชาวิศวกรรมการจัดการอุตสาหกรรมเพื่อความยั่งยืน | B18: 10 | D18: 15 | E18: 5 | G18: 10 | H18: 5 | J18: 5
A19: หลักสูตรวิศวกรรมศาสตรมหาบัณฑิต สาขาวิชาวิศวกรรมไฟฟ้า | D19: 10 | G19: 10 | J19: 5 | M19: 5
A20: หลักสูตรวิศวกรรมศาสตรมหาบัณฑิต สาขาวิชาวิศวกรรมเครื่องกล | B20: 10 | D20: 10 | E20: 10 | G20: 10 | H20: 10 | J20: 15
A21: รวมแผนรับ ระดับปริญญาโท | B21: =SUM(B4,B10,B17) -> 20 | C21: =SUM(C4,C10,C17) -> 40 | D21: =SUM(D4,D10,D17) -> 75 | E21: =SUM(E4,E10,E17) -> 15 | F21: =SUM(F4,F10,F17) -> 20 | G21: =SUM(G4,G10,G17) -> 70 | H21: =SUM(H4,H10,H17) -> 15 | I21: =SUM(I4,I10,I17) -> 20 | ... Y21: =SUM(Y4,Y10,Y17) -> 0

Sheet ป.เอก
A1: หลักสูตร | B1: แผนรับนักศึกษา ตามปีการศึกษา แยกระดับ
B2: ปี 2561 | D2: ปี 2562 | F2: ปี 2563 | H2: ปี 2564 | J2: ปี 2565 | L2: ปี 2566 | N2: ปี 2567 | P2: ปี 2568
B3: ปริญญาเอก ภาคปกติ | C3: ปริญญาเอก ภาคสมทบ | D3: ปริญญาเอก ภาคปกติ | E3: ปริญญาเอก ภาคสมทบ | F3: ปริญญาเอก ภาคปกติ | G3: ปริญญาเอก ภาคสมทบ | H3: ปริญญาเอก ภาคปกติ | I3: ปริญญาเอก ภาคสมทบ | J3: ปริญญาเอก ภาคปกติ | K3: ปริญญาเอก ภาคสมทบ | L3: ปริญญาเอก ภาคปกติ | M3: ปริญญาเอก ภาคสมทบ | N3: ปริญญาเอก ภาคปกติ | O3: ปริญญาเอก ภาคสมทบ | P3: ปริญญาเอก ภาคปกติ | Q3: ปริญญาเอก ภาคสมทบ
A4: คณะเทคโนโลยีคหกรรมศาสตร์ | B4: =SUM(B5) -> 0 | C4: =SUM(C5) -> 0 | D4: =SUM(D5) -> 0 | E4: =SUM(E5) -> 0 | F4: =SUM(F5) -> 0 | G4: =SUM(G5) -> 10 | H4: =SUM(H5) -> 0 | I4: =SUM(I5) -> 10 | ... Q4: =SUM(Q5) -> 0
A5: หลักสูตรปรัชญาดุษฎีบัณฑิต สาขาวิชาคหกรรมศาสตร์ | G5: 10 | I5: 10
A6: คณะบริหารธุรกิจ | B6: =SUM(B7:B12) -> 0 | C6: =SUM(C7:C12) -> 5 | D6: =SUM(D7:D12) -> 0 | E6: =SUM(E7:E12) -> 0 | F6: =SUM(F7:F12) -> 0 | G6: =SUM(G7:G12) -> 5 | H6: =SUM(H7:H12) -> 0 | I6: =SUM(I7:I12) -> 5 | ... Q6: =SUM(Q7:Q12) -> 0
A7: หลักสูตรบริหารธุรกิจดุษฎีบัณฑิต | C7: 5 | G7: 5 | I7: 5
A8: กลุ่มวิชาการบัญชี
A9: กลุ่มวิชาการตลาด
A10: กลุ่มวิชาการจัดการ
A11: กลุ่มวิชาการเงิน
A12: กลุ่มวิชาสารสนเทศธุรกิจ
A13: คณะวิศวกรรมศาสตร์ | B13: =SUM(B14:B15) -> 0 | C13: =SUM(C14:C15) -> 0 | D13: =SUM(D14:D15) -> 5 | E13: =SUM(E14:E15) -> 10 | F13: =SUM(F14:F15) -> 3 | G13: =SUM(G14:G15) -> 12 | H13: =SUM(H14:H15) -> 3 | I13: =SUM(I14:I15) -> 12 | ... Q13: =SUM(Q14:Q15) -> 0
A14: หลักสูตรวิศวกรรมศาสตรดุษฎีบัณฑิต สาขาวิชาวิศวกรรมการจัดการอุตสาหกรรมเพื่อความยั่งยืน | D14: 5 | E14: 5 | F14: 3 | G14: 7 | H14: 3 | I14: 7
A15: หลักสูตรปรัชญาดุษฎีบัณฑิต สาขาวิชาวิศวกรรมไฟฟ้า | E15: 5 | G15: 5 | H15: 0 | I15: 5
A16: รวมแผนรับ ระดับปริญญาเอก | B16: =SUM(B4,B6,B13) -> 0 | C16: =SUM(C4,C6,C13) -> 5 | D16: =SUM(D4,D6,D13) -> 5 | E16: =SUM(E4,E6,E13) -> 10 | F16: =SUM(F4,F6,F13) -> 3 | G16: =SUM(G4,G6,G13) -> 27 | H16: =SUM(H4,H6,H13) -> 3 | I16: =SUM(I4,I6,I13) -> 27 | ... Q16: =SUM(Q4,Q6,Q13) -> 0
A19: * หลักสูตรบริหารธุรกิจดุษฎีบัณฑิต ไม่แยกกลุ่มวิชา

Sheet สรุป
A1: คณะ | B1: แผนรับนักศึกษา ตามปีการศึกษา แยกระดับ
B2: ปี 2561 | H2: ปี 2562 | N2: ปี 2563 | T2: ปี 2564 | Z2: ปี 2565 | AF2: ปี 2566 | AL2: ปี 2567 | AR2: ปี 2568
B3: ปวช. | C3: ปริญญาตรี | D3: ป.บัณฑิต | E3: ปริญญาโท | F3: ปริญญาเอก | G3: รวม | H3: ปวช. | I3: ปริญญาตรี | J3: ป.บัณฑิต | K3: ปริญญาโท | L3: ปริญญาเอก | M3: รวม | N3: ปวช. | O3: ปริญญาตรี | P3: ป.บัณฑิต | Q3: ปริญญาโท | R3: ปริญญาเอก | S3: รวม | T3: ปวช. | U3: ปริญญาตรี | V3: ป.บัณฑิต | W3: ปริญญาโท | X3: ปริญญาเอก | Y3: รวม | Z3: ปวช. | AA3: ปริญญาตรี | AB3: ป.บัณฑิต | AC3: ปริญญาโท | AD3: ปริญญาเอก | AE3: รวม | AF3: ปวช. | AG3: ปริญญาตรี | AH3: ป.บัณฑิต | AI3: ปริญญาโท | AJ3: ปริญญาเอก | AK3: รวม | AL3: ปวช. | AM3: ปริญญาตรี | AN3: ป.บัณฑิต | AO3: ปริญญาโท | AP3: ปริญญาเอก | AQ3: รวม | AR3: ปวช. | AS3: ปริญญาตรี | AT3: ป.บัณฑิต | AU3: ปริญญาโท | AV3: ปริญญาเอก | AW3: รวม
A4: คณะครุศาสตร์อุตสาหกรรม | C4: =SUM(ป.ตรี!B4:I4) -> 255 | D4: =ป.บัณฑิต!B4 -> 180 | G4: =SUM(B4:F4) -> 435 | I4: =SUM(ป.ตรี!J4:Q4) -> 225 | J4: =ป.บัณฑิต!C4 -> 0 | M4: =SUM(H4:L4) -> 225 | O4: =SUM(ป.ตรี!R4:Y4) -> 175 | P4: =ป.บัณฑิต!D4 -> 180 | S4: =SUM(N4:R4) -> 355 | U4: =SUM(ป.ตรี!Z4:AH4) -> 225 | V4: =ป.บัณฑิต!E4 -> 0 | Y4: =SUM(T4:X4) -> 225 | AA4: =SUM(ป.ตรี!AI4:AP4) -> 0 | AB4: =ป.บัณฑิต!F4 -> 0 | AE4: =SUM(Z4:AD4) -> 0 | AG4: =SUM(ป.ตรี!AQ4:AX4) -> 0 | AH4: =ป.บัณฑิต!G4 -> 0 | AK4: =SUM(AF4:AJ4) -> 0 | AM4: =SUM(ป.ตรี!AY4:BF4) -> 0 | AN4: =ป.บัณฑิต!H4 -> 0 | AQ4: =SUM(AL4:AP4) -> 0 | AS4: =SUM(ป.ตรี!BG4:BN4) -> 0 | AT4: =ป.บัณฑิต!I4 -> 0 | AW4: =SUM(AR4:AV4) -> 0
A5: คณะเทคโนโลยีคหกรรมศาสตร์ | C5: =SUM(ป.ตรี!B20:I20) -> 380 | E5: =SUM(ป.โท!B4:D4) -> 20 | F5: =SUM(ป.เอก!B4:C4) -> 0 | G5: =SUM(B5:F5) -> 400 | I5: =SUM(ป.ตรี!J20:Q20) -> 435 | K5: =SUM(ป.โท!E4:G4) -> 20 | L5: =SUM(ป.เอก!D4:E4) -> 0 | M5: =SUM(H5:L5) -> 455 | O5: =SUM(ป.ตรี!R20:Y20) -> 455 | Q5: =SUM(ป.โท!H4:J4) -> 20 | R5: =SUM(ป.เอก!F4:G4) -> 10 | S5: =SUM(N5:R5) -> 485 | U5: =SUM(ป.ตรี!Z20:AH20) -> 420 | W5: =SUM(ป.โท!K4:M4) -> 20 | X5: =SUM(ป.เอก!H4:I4) -> 10 | Y5: =SUM(T5:X5) -> 450 | AA5: =SUM(ป.ตรี!AI20:AP20) -> 0 | AC5: =SUM(ป.โท!N4:P4) -> 0 | AD5: =SUM(ป.เอก!J4:K4) -> 0 | AE5: =SUM(Z5:AD5) -> 0 | AG5: =SUM(ป.ตรี!AQ20:AX20) -> 0 | AI5: =SUM(ป.โท!Q4:S4) -> 0 | AJ5: =SUM(ป.เอก!L4:M4) -> 0 | AK5: =SUM(AF5:AJ5) -> 0 | AM5: =SUM(ป.ตรี!AY20:BF20) -> 0 | AO5: =SUM(ป.โท!T4:V4) -> 0 | AP5: =SUM(ป.เอก!N4:O4) -> 0 | AQ5: =SUM(AL5:AP5) -> 0 | AS5: =SUM(ป.ตรี!BG20:BN20) -> 0 | AU5: =SUM(ป.โท!W4:Y4) -> 0 | AV5: =SUM(ป.เอก!P4:Q4) -> 0 | AW5: =SUM(AR5:AV5) -> 0
A6: คณะเทคโนโลยีสื่อสารมวลชน | C6: =SUM(ป.ตรี!B28:I28) -> 245 | G6: =SUM(B6:F6) -> 245 | I6: =SUM(ป.ตรี!J28:Q28) -> 245 | M6: =SUM(H6:L6) -> 245 | O6: =SUM(ป.ตรี!R28:Y28) -> 280 | S6: =SUM(N6:R6) -> 280 | U6: =SUM(ป.ตรี!Z28:AH28) -> 280 | Y6: =SUM(T6:X6) -> 280 | AA6: =SUM(ป.ตรี!AI28:AP28) -> 0 | AE6: =SUM(Z6:AD6) -> 0 | AG6: =SUM(ป.ตรี!AQ28:AX28) -> 0 | AK6: =SUM(AF6:AJ6) -> 0 | AM6: =SUM(ป.ตรี!AY28:BF28) -> 0 | AQ6: =SUM(AL6:AP6) -> 0 | AS6: =SUM(ป.ตรี!BG28:BN28) -> 0 | AW6: =SUM(AR6:AV6) -> 0
A7: คณะบริหารธุรกิจ | C7: =SUM(ป.ตรี!B34:I34) -> 1520 | E7: =SUM(ป.โท!B10:D10) -> 60 | F7: =SUM(ป.เอก!B6:C6) -> 5 | G7: =SUM(B7:F7) -> 1585 | I7: =SUM(ป.ตรี!J34:Q34) -> 1530 | K7: =SUM(ป.โท!E10:G10) -> 40 | L7: =SUM(ป.เอก!D6:E6) -> 0 | M7: =SUM(H7:L7) -> 1570 | O7: =SUM(ป.ตรี!R34:Y34) -> 1360 | Q7: =SUM(ป.โท!H10:J10) -> 40 | R7: =SUM(ป.เอก!F6:G6) -> 5 | S7: =SUM(N7:R7) -> 1405 | U7: =SUM(ป.ตรี!Z34:AH34) -> 1565 | W7: =SUM(ป.โท!K10:M10) -> 0 | X7: =SUM(ป.เอก!H6:I6) -> 5 | Y7: =SUM(T7:X7) -> 1570 | AA7: =SUM(ป.ตรี!AI34:AP34) -> 0 | AC7: =SUM(ป.โท!N10:P10) -> 0 | AD7: =SUM(ป.เอก!J6:K6) -> 0 | AE7: =SUM(Z7:AD7) -> 0 | AG7: =SUM(ป.ตรี!AQ34:AX34) -> 0 | AI7: =SUM(ป.โท!Q10:S10) -> 0 | AJ7: =SUM(ป.เอก!L6:M6) -> 0 | AK7: =SUM(AF7:AJ7) -> 0 | AM7: =SUM(ป.ตรี!AY34:BF34) -> 0 | AO7: =SUM(ป.โท!T10:V10) -> 0 | AP7: =SUM(ป.เอก!N6:O6) -> 0 | AQ7: =SUM(AL7:AP7) -> 0 | AS7: =SUM(ป.ตรี!BG34:BN34) -> 0 | AU7: =SUM(ป.โท!W10:Y10) -> 0 | AV7: =SUM(ป.เอก!P6:Q6) -> 0 | AW7: =SUM(AR7:AV7) -> 0
A8: คณะวิทยาศาสตร์และเทคโนโลยี | C8: =SUM(ป.ตรี!B58:I58) -> 175 | G8: =SUM(B8:F8) -> 175 | I8: =SUM(ป.ตรี!J58:Q58) -> 210 | M8: =SUM(H8:L8) -> 210 | O8: =SUM(ป.ตรี!R58:Y58) -> 210 | S8: =SUM(N8:R8) -> 210 | U8: =SUM(ป.ตรี!Z58:AH58) -> 170 | Y8: =SUM(T8:X8) -> 170 | AA8: =SUM(ป.ตรี!AI58:AP58) -> 0 | AE8: =SUM(Z8:AD8) -> 0 | AG8: =SUM(ป.ตรี!AQ58:AX58) -> 0 | AK8: =SUM(AF8:AJ8) -> 0 | AM8: =SUM(ป.ตรี!AY58:BF58) -> 0 | AQ8: =SUM(AL8:AP8) -> 0 | AS8: =SUM(ป.ตรี!BG58:BN58) -> 0 | AW8: =SUM(AR8:AV8) -> 0
A9: คณะวิศวกรรมศาสตร์ | C9: =SUM(ป.ตรี!B63:I63) -> 700 | E9: =SUM(ป.โท!B17:D17) -> 55 | F9: =SUM(ป.เอก!B13:C13) -> 0 | G9: =SUM(B9:F9) -> 755 | I9: =SUM(ป.ตรี!J63:Q63) -> 650 | K9: =SUM(ป.โท!E17:G17) -> 45 | L9: =SUM(ป.เอก!D13:E13) -> 15 | M9: =SUM(H9:L9) -> 710 | O9: =SUM(ป.ตรี!R63:Y63) -> 570 | Q9: =SUM(ป.โท!H17:J17) -> 40 | R9: =SUM(ป.เอก!F13:G13) -> 15 | S9: =SUM(N9:R9) -> 625 | U9: =SUM(ป.ตรี!Z63:AH63) -> 620 | W9: =SUM(ป.โท!K17:M17) -> 5 | X9: =SUM(ป.เอก!H13:I13) -> 15 | Y9: =SUM(T9:X9) -> 640 | AA9: =SUM(ป.ตรี!AI63:AP63) -> 0 | AC9: =SUM(ป.โท!N17:P17) -> 0 | AD9: =SUM(ป.เอก!J13:K13) -> 0 | AE9: =SUM(Z9:AD9) -> 0 | AG9: =SUM(ป.ตรี!AQ63:AX63) -> 0 | AI9: =SUM(ป.โท!Q17:S17) -> 0 | AJ9: =SUM(ป.เอก!L13:M13) -> 0 | AK9: =SUM(AF9:AJ9) -> 0 | AM9: =SUM(ป.ตรี!AY63:BF63) -> 0 | AO9: =SUM(ป.โท!T17:V17) -> 0 | AP9: =SUM(ป.เอก!N13:O13) -> 0 | AQ9: =SUM(AL9:AP9) -> 0 | AS9: =SUM(ป.ตรี!BG63:BN63) -> 0 | AU9: =SUM(ป.โท!W17:Y17) -> 0 | AV9: =SUM(ป.เอก!P13:Q13) -> 0 | AW9: =SUM(AR9:AV9) -> 0
A10: คณะศิลปศาสตร์ | C10: =SUM(ป.ตรี!B74:I74) -> 250 | G10: =SUM(B10:F10) -> 250 | I10: =SUM(ป.ตรี!J74:Q74) -> 235 | M10: =SUM(H10:L10) -> 235 | O10: =SUM(ป.ตรี!R74:Y74) -> 245 | S10: =SUM(N10:R10) -> 245 | U10: =SUM(ป.ตรี!Z74:AH74) -> 280 | Y10: =SUM(T10:X10) -> 280 | AA10: =SUM(ป.ตรี!AI74:AP74) -> 0 | AE10: =SUM(Z10:AD10) -> 0 | AG10: =SUM(ป.ตรี!AQ74:AX74) -> 0 | AK10: =SUM(AF10:AJ10) -> 0 | AM10: =SUM(ป.ตรี!AY74:BF74) -> 0 | AQ10: =SUM(AL10:AP10) -> 0 | AS10: =SUM(ป.ตรี!BG74:BN74) -> 0 | AW10: =SUM(AR10:AV10) -> 0
A11: คณะอุตสาหกรรมสิ่งทอและออกแบบแฟชั่น | C11: =SUM(ป.ตรี!B79:I79) -> 120 | G11: =SUM(B11:F11) -> 120 | I11: =SUM(ป.ตรี!J79:Q79) -> 160 | M11: =SUM(H11:L11) -> 160 | O11: =SUM(ป.ตรี!R79:Y79) -> 160 | S11: =SUM(N11:R11) -> 160 | U11: =SUM(ป.ตรี!Z79:AH79) -> 160 | Y11: =SUM(T11:X11) -> 160 | AA11: =SUM(ป.ตรี!AI79:AP79) -> 0 | AE11: =SUM(Z11:AD11) -> 0 | AG11: =SUM(ป.ตรี!AQ79:AX79) -> 0 | AK11: =SUM(AF11:AJ11) -> 0 | AM11: =SUM(ป.ตรี!AY79:BF79) -> 0 | AQ11: =SUM(AL11:AP11) -> 0 | AS11: =SUM(ป.ตรี!BG79:BN79) -> 0 | AW11: =SUM(AR11:AV11) -> 0
A12: คณะสถาปัตยกรรมศาสตร์และการออกแบบ | C12: =SUM(ป.ตรี!B85:I85) -> 175 | G12: =SUM(B12:F12) -> 175 | I12: =SUM(ป.ตรี!J85:Q85) -> 175 | M12: =SUM(H12:L12) -> 175 | O12: =SUM(ป.ตรี!R85:Y85) -> 110 | S12: =SUM(N12:R12) -> 110 | U12: =SUM(ป.ตรี!Z85:AH85) -> 175 | Y12: =SUM(T12:X12) -> 175 | AA12: =SUM(ป.ตรี!AI85:AP85) -> 0 | AE12: =SUM(Z12:AD12) -> 0 | AG12: =SUM(ป.ตรี!AQ85:AX85) -> 0 | AK12: =SUM(AF12:AJ12) -> 0 | AM12: =SUM(ป.ตรี!AY85:BF85) -> 0 | AQ12: =SUM(AL12:AP12) -> 0 | AS12: =SUM(ป.ตรี!BG85:BN85) -> 0 | AW12: =SUM(AR12:AV12) -> 0
A13: ประเภทวิชาอุตสาหกรรม | B13: =ปวช.!B4 -> 175 | G13: =SUM(B13:F13) -> 175 | H13: =ปวช.!C4 -> 175 | M13: =SUM(H13:L13) -> 175 | N13: =ปวช.!D4 -> 280 | S13: =SUM(N13:R13) -> 280 | T13: =ปวช.!E4 -> 280 | Y13: =SUM(T13:X13) -> 280 | Z13: =ปวช.!F4 -> 0 | AE13: =SUM(Z13:AD13) -> 0 | AF13: =ปวช.!G4 -> 0 | AK13: =SUM(AF13:AJ13) -> 0 | AL13: =ปวช.!H4 -> 0 | AQ13: =SUM(AL13:AP13) -> 0 | AR13: =ปวช.!I4 -> 0 | AW13: =SUM(AR13:AV13) -> 0
A14: ประเภทวิชาพาณิชยกรรม | B14: =ปวช.!B11 -> 35 | G14: =SUM(B14:F14) -> 35 | H14: =ปวช.!C11 -> 70 | M14: =SUM(H14:L14) -> 70 | N14: =ปวช.!D11 -> 35 | S14: =SUM(N14:R14) -> 35 | T14: =ปวช.!E11 -> 40 | Y14: =SUM(T14:X14) -> 40 | Z14: =ปวช.!F11 -> 0 | AE14: =SUM(Z14:AD14) -> 0 | AF14: =ปวช.!G11 -> 0 | AK14: =SUM(AF14:AJ14) -> 0 | AL14: =ปวช.!H11 -> 0 | AQ14: =SUM(AL14:AP14) -> 0 | AR14: =ปวช.!I11 -> 0 | AW14: =SUM(AR14:AV14) -> 0
A15: รวมแผนรับ | B15: =SUM(B4:B14) -> 210 | C15: =SUM(C4:C14) -> 3820 | D15: =SUM(D4:D14) -> 180 | E15: =SUM(E4:E14) -> 135 | F15: =SUM(F4:F14) -> 5 | G15: =SUM(G4:G14) -> 4350 | H15: =SUM(H4:H14) -> 245 | I15: =SUM(I4:I14) -> 3865 | ... AW15: =SUM(AW4:AW14) -> 0
A17: *ชีทนี้ไม่ต้องกรอกข้อมูล แต่ละช่องจะ Sum ให้เอง
